BEGIN:VCALENDAR
VERSION:2.0
PRODID:Quicksite
NAME:Calendrier
X-WR-CALNAME:Calendrier
REFRESH-INTERVAL;VALUE=DURATION:PT240M
X-PUBLISHED-TTL:PT240M
BEGIN:VEVENT
UID:69ea04982bc7b
SUMMARY:Fête Nationale
DESCRIPTION:
LOCATION:Hangar à Marc Prélaz
DTSTART:20260801T163000Z
DTEND:20260801T173000Z
DTSTAMP:20260310T094607Z
END:VEVENT
END:VCALENDAR